BEGIN:VCALENDAR
VERSION:2.0
PRODID:-//Site de la ville de Comines//NONSGML kigkonsult.se iCalcreator 2.
 30.10//
CALSCALE:GREGORIAN
METHOD:PUBLISH
UID:47f5d135-f7a1-4391-ac0c-4344a5510723
X-WR-CALNAME:iCagenda
X-WR-CALDESC:Event Management Extension for Joomla!
X-WR-RELCALID:3E26604A-50F4-4449-8B3E-E4F4932D05B5
X-WR-TIMEZONE:Europe/Paris
BEGIN:VTIMEZONE
TZID:Europe/Paris
BEGIN:STANDARD
TZNAME:CET
DTSTART:20251026T030000
TZOFFSETFROM:+0200
TZOFFSETTO:+0100
RDATE:20261025T030000
RDATE:20271031T030000
END:STANDARD
BEGIN:DAYLIGHT
TZNAME:CEST
DTSTART:20260329T020000
TZOFFSETFROM:+0100
TZOFFSETTO:+0200
RDATE:20270328T020000
END:DAYLIGHT
END:VTIMEZONE
BEGIN:VEVENT
UID:47832776-31ed-4b12-8d9f-2b8f95480785
DTSTAMP:20260423T130826Z
CATEGORIES:Loisirs
CLASS:PUBLIC
DESCRIPTION;ALTREP="CID:<FFFF__=0ABBE548DFE235B58f9e8a93d@coffeebean.com>":
 Petit Tonnerre Par la Cie Petit Tonnerre\nLa compagnie Petit Tonnerre prop
 ose un spectacle musical pour les enfants à partir de 3 ans. Ce duo\, comp
 osé d’Emma – voix\, percussions\, narration – et de Ludovic – contrebasse\
 , chœurs – invite à une immersion musicale où la chanson s’entremêle à des
  histoires courtes et évocatrices.\nLa voix grave\, la contrebasse et les 
 percussions légères créent une texture sonore singulière. L’ambiance intim
 iste et poétique invite à une écoute attentive et à l’émerveillement. Le r
 épertoire inclut des chansons d’aujourd’hui et d’autres issues des traditi
 ons populaires\, ainsi que des standards de jazz revisités avec des textes
  écrits par le duo.\nRéservations gratuites :&nbsp\;Billetterie
DTSTART:20260506T123000Z
DTEND:20260506T123000Z
GEO:00;0
LOCATION:Nautilys
ORGANIZER;CN=:musique@ville-comines.fr
SEQUENCE:1
SUMMARY:Spectacle jeune public - Petit Tonnerre
TRANSP:OPAQUE
URL:https://www.ville-comines.fr/decouvrir-la-ville/agenda/951-spectacle-je
 une-public-petit-tonnerre/2026-05-06-14-30
END:VEVENT
END:VCALENDAR
