BEGIN:VCALENDAR
VERSION:2.0
PRODID:-//Site de la ville de Comines//NONSGML kigkonsult.se iCalcreator 2.
 30.10//
CALSCALE:GREGORIAN
METHOD:PUBLISH
UID:c04a5027-33e4-4706-9b0d-5c2f4ad3be13
X-WR-CALNAME:iCagenda
X-WR-CALDESC:Event Management Extension for Joomla!
X-WR-RELCALID:3E26604A-50F4-4449-8B3E-E4F4932D05B5
X-WR-TIMEZONE:Europe/Paris
BEGIN:VTIMEZONE
TZID:Europe/Paris
BEGIN:STANDARD
TZNAME:CET
DTSTART:20241027T030000
TZOFFSETFROM:+0200
TZOFFSETTO:+0100
RDATE:20251026T030000
RDATE:20261025T030000
END:STANDARD
BEGIN:DAYLIGHT
TZNAME:CEST
DTSTART:20250330T020000
TZOFFSETFROM:+0100
TZOFFSETTO:+0200
RDATE:20260329T020000
END:DAYLIGHT
END:VTIMEZONE
BEGIN:VEVENT
UID:077ffe90-d9eb-41a1-bc5d-857a6f1cadd9
DTSTAMP:20260420T082039Z
CATEGORIES:Théâtre
CLASS:PUBLIC
DESCRIPTION;ALTREP="CID:<FFFF__=0ABBE548DFE235B58f9e8a93d@coffeebean.com>":
 Forte de son dernier spectacle (l'Avare de Molière joué en 2024) et en par
 tenariat avec trois troupes des environs\,&nbsp\;Lys en Scène organise le 
 1er festival de Théâtre Amateur de Comines du 23 au 25 mai 2025.\nLes trou
 pes joueront dans les 3 salles de Lys Arena de Comines du vendredi soir au
  dimanche après-midi:\n\nLys en Scène de Comines\nCôté Cour Côté Jardin de
  Bousbecque\nLes Prézatouts de Linselles\nThéâtre au coin du feu ou du bar
 beuc (ça dépend des saisons) de Lomme.\n\nTarif: 10€\, réduit: 7€. Infos :
 \nhttps://lysenscene.wixsite.com/bienvenue\nhttps://www.facebook.com/61561
 956896619\nhttps://www.instagram.com/lys_en_scene/
DTSTART:20250523T160000Z
DTEND:20250525T160000Z
GEO:00;0
LOCATION:Lys Arena
ORGANIZER:
SEQUENCE:1
SUMMARY:1er Festival de Théâtre amateur
TRANSP:OPAQUE
URL:https://www.ville-comines.fr/decouvrir-la-ville/agenda/851-festival-the
 atre-2025
END:VEVENT
END:VCALENDAR
