BEGIN:VCALENDAR
VERSION:2.0
PRODID:-//Site de la ville de Comines//NONSGML kigkonsult.se iCalcreator 2.
 30.10//
CALSCALE:GREGORIAN
METHOD:PUBLISH
UID:acbb1274-fa43-48df-8ec0-5f8b2e78aae1
X-WR-CALNAME:iCagenda
X-WR-CALDESC:Event Management Extension for Joomla!
X-WR-RELCALID:3E26604A-50F4-4449-8B3E-E4F4932D05B5
X-WR-TIMEZONE:Europe/Paris
BEGIN:VTIMEZONE
TZID:Europe/Paris
BEGIN:STANDARD
TZNAME:CET
DTSTART:20241027T030000
TZOFFSETFROM:+0200
TZOFFSETTO:+0100
RDATE:20251026T030000
END:STANDARD
BEGIN:DAYLIGHT
TZNAME:CEST
DTSTART:20240331T020000
TZOFFSETFROM:+0100
TZOFFSETTO:+0200
RDATE:20250330T020000
RDATE:20260329T020000
END:DAYLIGHT
END:VTIMEZONE
BEGIN:VEVENT
UID:cc4929b0-067a-4895-bcd2-a356f9821e7c
DTSTAMP:20260421T100140Z
CATEGORIES:Concert Musique
CLASS:PUBLIC
DESCRIPTION;ALTREP="CID:<FFFF__=0ABBE548DFE235B58f9e8a93d@coffeebean.com>":
 Le dispositif Tour de Chauffe constitue un label dans le domaine du repéra
 ge et de l’accompagnement des groupes amateurs de musiques actuelles issus
  de l’Eurométropole et permet aux artistes et groupes lauréats de bénéfici
 er d'un accompagnement artistique complet et adapté. Comme chaque année de
 puis 20 ans\, le festival vient conclure en apothéose ce cycle et le Nauti
 lys accueille 1 lauréat :\n\nUmuru (Post Rock)Umuru c’est l’entrechoc d’un
  violoncelle halluciné\, d’une batterie augmentée et de vocalises d’outre-
 monde. Ses sonorités atmosphériques\, transes psychédéliques et envolées f
 urieuses convoquent les abîmes glacés et la chaleur des feux d’hiver. Entr
 e post-rock onirique et techno nordique\, il vous rappellera Sólstafir\, N
 ine Inch Nails et Radiohead. Sur scène\, Umuru entrelace musique et projec
 tions vidéo cosmiques live et promet des concerts puissants aux atmosphère
 s élaborées et immersives.Durée : 40 min\n\n\nPamela (Rock / électro)Chez 
 Pamela\, c’est la spontanéité qui prime. Ensemble\, Samuel Sprent et Simon
  Quénéa proposent une musique instinctive qui n’aura eu besoin que de quel
 ques sessions pour trouver son rythme de croisière. Un jour en studio?? Un
  morceau derrière\, déjà prêt à exploser. Accompagné par Pierre Cheguillau
 me en studio — producteur nantais qui amène une subtilité dans les prods e
 t intervient sur Pamela à la manière d’un Rick Rubin —\, le duo propose un
 e rencontre entre LCD Soundsystem\, The Cure\, Joy Division\, The Strokes.
  Arctic Monkeys\, Soulwax ou Damon Albarn. Un groupe aux refrains entêtant
 s\, aux mélodies fortes\, souvent bouclées\, une dance music qui incorpore
  des intentions venues de l’indie rock\, de la pop\, de la britpop\, de l’
 electronic music\, de la chanson. Et en anglais\, toujours\, puisque c’est
  la langue natale de Sam\, mais aussi la langue préférentielle d’une forma
 tion qui trouve sa pleine mesure en live. En marge de la sortie de premier
 s morceaux cet automne\, Pamela a assureré d’ailleurs les premières partie
 s de Zaho de Sagazan est passé par le MAMA à Paris\, les Transmusicales à 
 Rennes\, Eurosonic (NL) et affiche complet à La Maroquinerie le 20 mars av
 ant même la sortie de leur 1er EP “Live shift dream”Durée : 1h\n\nTarif : 
 5€\nBilletterie en ligne sur ville-comines.fr/billetterie
DTSTART:20241130T190000Z
DTEND:20241130T190000Z
GEO:00;0
LOCATION:Nautilys
ORGANIZER;CN=:musique@ville-comines.fr
SEQUENCE:1
SUMMARY:Tour de Chauffe
TRANSP:OPAQUE
URL:https://www.ville-comines.fr/decouvrir-la-ville/agenda/801-tour-de-chau
 ffe-7/2024-11-30-20-00
END:VEVENT
END:VCALENDAR
