BEGIN:VCALENDAR
VERSION:2.0
PRODID:-//Site de la ville de Comines//NONSGML kigkonsult.se iCalcreator 2.
 30.10//
CALSCALE:GREGORIAN
METHOD:PUBLISH
UID:d5e2d4f0-2108-4455-97a8-e0301e55808c
X-WR-CALNAME:iCagenda
X-WR-CALDESC:Event Management Extension for Joomla!
X-WR-RELCALID:3E26604A-50F4-4449-8B3E-E4F4932D05B5
X-WR-TIMEZONE:Europe/Paris
BEGIN:VTIMEZONE
TZID:Europe/Paris
BEGIN:STANDARD
TZNAME:CET
DTSTART:20241027T030000
TZOFFSETFROM:+0200
TZOFFSETTO:+0100
RDATE:20251026T030000
RDATE:20261025T030000
END:STANDARD
BEGIN:DAYLIGHT
TZNAME:CEST
DTSTART:20250330T020000
TZOFFSETFROM:+0100
TZOFFSETTO:+0200
RDATE:20260329T020000
RDATE:20270328T020000
END:DAYLIGHT
END:VTIMEZONE
BEGIN:VEVENT
UID:1933e6e0-857a-47ac-b93e-5695c60034b4
DTSTAMP:20260422T181441Z
CATEGORIES:Événement - Festival
CLASS:PUBLIC
DESCRIPTION;ALTREP="CID:<FFFF__=0ABBE548DFE235B58f9e8a93d@coffeebean.com>":
 Samedi 4 octobre à 20h - AuditoriumConférence sur l'historique de la Fête 
 des Louches et son évolution\nSamedi 11 octobre - De 14h à 23h Marché médi
 éval et animations dans le jardin public\, fête foraine\, ouverture offici
 elle de la Fête des Louches avec cortège des allumoirs suivi du jet des lo
 uches pour enfants.\nDimanche 12 octobre - De 10h à 17h Marché médiéval\, 
 animations\, messe du souvenir\, critérium des louches (course cycliste)\,
  fête foraine\, cortège historique au départ de la gare de Comines Belgiqu
 e\, jet des louches traditionnel.\n11 et 12 octobre - De 10h à 12h et de 1
 4h à 18h Exposition d'œuvres (religieuses et profanes) par Jean-Paul Léclu
 se - église Saint Chrysole\nLundi 13 octobre - De 8h à 20hFranc marché\, f
 ête foraine\, concert de clôture de la Fête des Louches à l’auditorium Jea
 n Micault par la symphonie de l'Espérance.\nProgrammation complète sur www
 .fete-des-louches.com
DTSTART:20251011T150700Z
DTEND:20251013T150700Z
GEO:00;0
LOCATION:Grand Place
ORGANIZER:
SEQUENCE:1
SUMMARY:Fête historique des Louches
TRANSP:OPAQUE
URL:https://www.ville-comines.fr/decouvrir-la-ville/agenda/775-fete-histori
 que-des-louches
END:VEVENT
END:VCALENDAR
