BEGIN:VCALENDAR
VERSION:2.0
PRODID:-//Site de la ville de Comines//NONSGML kigkonsult.se iCalcreator 2.
 30.10//
CALSCALE:GREGORIAN
METHOD:PUBLISH
UID:9e9c062d-3824-4993-aa5b-2fbd6c908b7c
X-WR-CALNAME:iCagenda
X-WR-CALDESC:Event Management Extension for Joomla!
X-WR-RELCALID:3E26604A-50F4-4449-8B3E-E4F4932D05B5
X-WR-TIMEZONE:Europe/Paris
BEGIN:VTIMEZONE
TZID:Europe/Paris
BEGIN:STANDARD
TZNAME:CET
DTSTART:20251026T030000
TZOFFSETFROM:+0200
TZOFFSETTO:+0100
RDATE:20261025T030000
RDATE:20271031T030000
END:STANDARD
BEGIN:DAYLIGHT
TZNAME:CEST
DTSTART:20260329T020000
TZOFFSETFROM:+0100
TZOFFSETTO:+0200
RDATE:20270328T020000
END:DAYLIGHT
END:VTIMEZONE
BEGIN:VEVENT
UID:35b5b867-d4a2-49b5-99c1-16506d4881d8
DTSTAMP:20260421T120956Z
CATEGORIES:Loisirs
CLASS:PUBLIC
DESCRIPTION;ALTREP="CID:<FFFF__=0ABBE548DFE235B58f9e8a93d@coffeebean.com>":
 Passionnés de littérature classique ou contemporaine\, de polars\, de poés
 ie ou de terroir\, Chrysoline vous propose de venir partager un moment de 
 convivialité autour de vos lectures.Venez discuter et échanger vos coups d
 e cœur autour d'un café et repartez&nbsp\;avec de belles idées de lecture 
 !
DTSTART:20260502T083000Z
DTEND:20260502T083000Z
GEO:00;0
LOCATION:Médiathèque Ducarin
ORGANIZER;CN=:mediatheque@ville-comines.fr
SEQUENCE:1
SUMMARY:Café littéraire
TRANSP:OPAQUE
URL:https://www.ville-comines.fr/decouvrir-la-ville/agenda/769-cafe-littera
 ire-5/2026-05-02-10-30
END:VEVENT
END:VCALENDAR
